BEGIN:VCALENDAR
VERSION:2.0
PRODID:-//https://www.breakspeare.herts.sch.uk///NONSGML kigkonsult.se iCalcreator 2.10.15//
METHOD:PUBLISH
BEGIN:VEVENT
UID:20260423T134046UTC-5868k8r8xc@https://www.breakspeare.herts.sch.uk/
DTSTAMP:20260423T134046Z
DESCRIPTION: https://www.breakspeare.herts.sch.uk/parents/calendar/event/16
 4-father-christmas-visits-breakspeare
DTSTART;VALUE=DATE:20191220
LOCATION:Breakspeare School ()
SUMMARY:Father Christmas Visits Breakspeare 
URL:https://www.breakspeare.herts.sch.uk/parents/calendar/event/164-father-
 christmas-visits-breakspeare
END:VEVENT
END:VCALENDAR
